BEGIN:VCALENDAR
VERSION:2.0
PRODID:-//St. Antonius Schützenbruderschaft Benteler - „aus Tradition gut!&quot; - ECPv6.15.20//NONSGML v1.0//EN
CALSCALE:GREGORIAN
METHOD:PUBLISH
X-WR-CALNAME:St. Antonius Schützenbruderschaft Benteler - „aus Tradition gut!&quot;
X-ORIGINAL-URL:https://schuetzenbruderschaft-benteler.de
X-WR-CALDESC:Veranstaltungen für St. Antonius Schützenbruderschaft Benteler - „aus Tradition gut!&quot;
REFRESH-INTERVAL;VALUE=DURATION:PT1H
X-Robots-Tag:noindex
X-PUBLISHED-TTL:PT1H
BEGIN:VTIMEZONE
TZID:Europe/Berlin
BEGIN:DAYLIGHT
TZOFFSETFROM:+0100
TZOFFSETTO:+0200
TZNAME:CEST
DTSTART:20250330T010000
END:DAYLIGHT
BEGIN:STANDARD
TZOFFSETFROM:+0200
TZOFFSETTO:+0100
TZNAME:CET
DTSTART:20251026T010000
END:STANDARD
BEGIN:DAYLIGHT
TZOFFSETFROM:+0100
TZOFFSETTO:+0200
TZNAME:CEST
DTSTART:20260329T010000
END:DAYLIGHT
BEGIN:STANDARD
TZOFFSETFROM:+0200
TZOFFSETTO:+0100
TZNAME:CET
DTSTART:20261025T010000
END:STANDARD
BEGIN:DAYLIGHT
TZOFFSETFROM:+0100
TZOFFSETTO:+0200
TZNAME:CEST
DTSTART:20270328T010000
END:DAYLIGHT
BEGIN:STANDARD
TZOFFSETFROM:+0200
TZOFFSETTO:+0100
TZNAME:CET
DTSTART:20271031T010000
END:STANDARD
END:VTIMEZONE
BEGIN:VEVENT
DTSTART;TZID=Europe/Berlin:20260614T130000
DTEND;TZID=Europe/Berlin:20260614T180000
DTSTAMP:20260424T214908
CREATED:20251206T095142Z
LAST-MODIFIED:20251206T095142Z
UID:29251-1781442000-1781460000@schuetzenbruderschaft-benteler.de
SUMMARY:Jubiläum Fanfarencorps Wadersloh
DESCRIPTION:
URL:https://schuetzenbruderschaft-benteler.de/event/jubilaeum-fanfarencorps-wadersloh/
LOCATION:Wadersloh
END:VEVENT
END:VCALENDAR