BEGIN:VCALENDAR
VERSION:2.0
PRODID:-//St. Antonius Schützenbruderschaft Benteler - „aus Tradition gut!&quot; - ECPv6.15.20//NONSGML v1.0//EN
CALSCALE:GREGORIAN
METHOD:PUBLISH
X-ORIGINAL-URL:https://schuetzenbruderschaft-benteler.de
X-WR-CALDESC:Veranstaltungen für St. Antonius Schützenbruderschaft Benteler - „aus Tradition gut!&quot;
REFRESH-INTERVAL;VALUE=DURATION:PT1H
X-Robots-Tag:noindex
X-PUBLISHED-TTL:PT1H
BEGIN:VTIMEZONE
TZID:Europe/Berlin
BEGIN:DAYLIGHT
TZOFFSETFROM:+0100
TZOFFSETTO:+0200
TZNAME:CEST
DTSTART:20250330T010000
END:DAYLIGHT
BEGIN:STANDARD
TZOFFSETFROM:+0200
TZOFFSETTO:+0100
TZNAME:CET
DTSTART:20251026T010000
END:STANDARD
BEGIN:DAYLIGHT
TZOFFSETFROM:+0100
TZOFFSETTO:+0200
TZNAME:CEST
DTSTART:20260329T010000
END:DAYLIGHT
BEGIN:STANDARD
TZOFFSETFROM:+0200
TZOFFSETTO:+0100
TZNAME:CET
DTSTART:20261025T010000
END:STANDARD
BEGIN:DAYLIGHT
TZOFFSETFROM:+0100
TZOFFSETTO:+0200
TZNAME:CEST
DTSTART:20270328T010000
END:DAYLIGHT
BEGIN:STANDARD
TZOFFSETFROM:+0200
TZOFFSETTO:+0100
TZNAME:CET
DTSTART:20271031T010000
END:STANDARD
END:VTIMEZONE
BEGIN:VEVENT
DTSTART;TZID=Europe/Berlin:20260719T150000
DTEND;TZID=Europe/Berlin:20260719T233000
DTSTAMP:20260424T172033
CREATED:20251206T095405Z
LAST-MODIFIED:20251206T095405Z
UID:29259-1784473200-1784503800@schuetzenbruderschaft-benteler.de
SUMMARY:Gastbesuch Schützenfest Langenberg
DESCRIPTION:
URL:https://schuetzenbruderschaft-benteler.de/event/gastbesuch-schuetzenfest-langenberg/
LOCATION:Langenberg
END:VEVENT
BEGIN:VEVENT
DTSTART;TZID=Europe/Berlin:20260720T193000
DTEND;TZID=Europe/Berlin:20260720T233000
DTSTAMP:20260424T172033
CREATED:20251206T095432Z
LAST-MODIFIED:20251206T095432Z
UID:29261-1784575800-1784590200@schuetzenbruderschaft-benteler.de
SUMMARY:Gastbesuch Schützenfest Langenberg
DESCRIPTION:
URL:https://schuetzenbruderschaft-benteler.de/event/gastbesuch-schuetzenfest-langenberg-2/
LOCATION:Langenberg
END:VEVENT
BEGIN:VEVENT
DTSTART;TZID=Europe/Berlin:20260727T193000
DTEND;TZID=Europe/Berlin:20260727T233000
DTSTAMP:20260424T172033
CREATED:20251206T095458Z
LAST-MODIFIED:20251206T095458Z
UID:29263-1785180600-1785195000@schuetzenbruderschaft-benteler.de
SUMMARY:Gastbesuch Schützenfest Batenhorst
DESCRIPTION:
URL:https://schuetzenbruderschaft-benteler.de/event/gastbesuch-schuetzenfest-batenhorst/
LOCATION:Batenhorst
END:VEVENT
BEGIN:VEVENT
DTSTART;TZID=Europe/Berlin:20260821T183000
DTEND;TZID=Europe/Berlin:20260821T233000
DTSTAMP:20260424T172033
CREATED:20251206T095557Z
LAST-MODIFIED:20251211T190625Z
UID:29265-1787337000-1787355000@schuetzenbruderschaft-benteler.de
SUMMARY:Dämmerschoppen 2. Kompanie
DESCRIPTION:
URL:https://schuetzenbruderschaft-benteler.de/event/doemmerschoppen-2-kompanie/
LOCATION:noch offen
END:VEVENT
BEGIN:VEVENT
DTSTART;TZID=Europe/Berlin:20260828T183000
DTEND;TZID=Europe/Berlin:20260828T233000
DTSTAMP:20260424T172033
CREATED:20251206T095623Z
LAST-MODIFIED:20251206T095623Z
UID:29268-1787941800-1787959800@schuetzenbruderschaft-benteler.de
SUMMARY:Dämmerschoppen 1. Kompanie
DESCRIPTION:
URL:https://schuetzenbruderschaft-benteler.de/event/daemmerschoppen-1-kompanie/
LOCATION:noch offen
END:VEVENT
BEGIN:VEVENT
DTSTART;TZID=Europe/Berlin:20261002T200000
DTEND;TZID=Europe/Berlin:20261002T233000
DTSTAMP:20260424T172033
CREATED:20251206T095700Z
LAST-MODIFIED:20251206T095700Z
UID:29270-1790971200-1790983800@schuetzenbruderschaft-benteler.de
SUMMARY:Kompanieversammlung 2. Kompanie
DESCRIPTION:
URL:https://schuetzenbruderschaft-benteler.de/event/kompanieversammlung-2-kompanie/
LOCATION:Vereinslokal Berkemeier
END:VEVENT
BEGIN:VEVENT
DTSTART;TZID=Europe/Berlin:20261009T200000
DTEND;TZID=Europe/Berlin:20261009T233000
DTSTAMP:20260424T172033
CREATED:20251206T095735Z
LAST-MODIFIED:20251206T095735Z
UID:29272-1791576000-1791588600@schuetzenbruderschaft-benteler.de
SUMMARY:Kompanieversammlung 1. Kompanie
DESCRIPTION:
URL:https://schuetzenbruderschaft-benteler.de/event/kompanieversammlung-1-kompanie/
LOCATION:Vereinslokal Berkemeier
END:VEVENT
BEGIN:VEVENT
DTSTART;TZID=Europe/Berlin:20261016T200000
DTEND;TZID=Europe/Berlin:20261016T233000
DTSTAMP:20260424T172033
CREATED:20251206T095802Z
LAST-MODIFIED:20251206T095802Z
UID:29274-1792180800-1792193400@schuetzenbruderschaft-benteler.de
SUMMARY:Kompanieversammlung 3. Kompanie
DESCRIPTION:
URL:https://schuetzenbruderschaft-benteler.de/event/kompanieversammlung-3-kompanie/
LOCATION:Vereinslokal Berkemeier
END:VEVENT
BEGIN:VEVENT
DTSTART;TZID=Europe/Berlin:20261024T173000
DTEND;TZID=Europe/Berlin:20261024T233000
DTSTAMP:20260424T172033
CREATED:20251206T095842Z
LAST-MODIFIED:20251206T095842Z
UID:29276-1792863000-1792884600@schuetzenbruderschaft-benteler.de
SUMMARY:Bezirkskönigsball
DESCRIPTION:
URL:https://schuetzenbruderschaft-benteler.de/event/bezirkskoenigsball/
LOCATION:Stadthalle Rheda-Wiedenbrück
END:VEVENT
BEGIN:VEVENT
DTSTART;TZID=Europe/Berlin:20261212T170000
DTEND;TZID=Europe/Berlin:20261212T233000
DTSTAMP:20260424T172033
CREATED:20251206T095914Z
LAST-MODIFIED:20251206T095914Z
UID:29278-1797094800-1797118200@schuetzenbruderschaft-benteler.de
SUMMARY:Roratemesse und Hüttendorf
DESCRIPTION:
URL:https://schuetzenbruderschaft-benteler.de/event/roratemesse-und-huettendorf/
LOCATION:Benteler
END:VEVENT
END:VCALENDAR